BEGIN:VCALENDAR
VERSION:2.0
PRODID:-// - ECPv6.15.13.1//NONSGML v1.0//EN
CALSCALE:GREGORIAN
METHOD:PUBLISH
X-ORIGINAL-URL:https://archive.younggov.org
X-WR-CALDESC:Events for 
REFRESH-INTERVAL;VALUE=DURATION:PT1H
X-Robots-Tag:noindex
X-PUBLISHED-TTL:PT1H
BEGIN:VTIMEZONE
TZID:UTC
BEGIN:STANDARD
TZOFFSETFROM:+0000
TZOFFSETTO:+0000
TZNAME:UTC
DTSTART:20230101T000000
END:STANDARD
END:VTIMEZONE
BEGIN:VEVENT
DTSTART;TZID=UTC:20240408T080000
DTEND;TZID=UTC:20240514T170000
DTSTAMP:20260423T233346
CREATED:20240408T032110Z
LAST-MODIFIED:20240408T032110Z
UID:1009-1712563200-1715706000@archive.younggov.org
SUMMARY:2024 wellness challenge: Nourish
DESCRIPTION:Kaiser Permanente is excited to announce our new 2024 wellness challenge\, Nourish. This program is open to all employees at no cost. Nourish builds and reinforce healthy eating\, sleep\, exercise\, and mindfulness habits — leading to the healthiest you. Eating more nutrient-rich and less nutrient-deficient food increases energy\, lifts mood\, and sharpens focus while enhancing well-being and helping you thrive. \nThe goal of this campaign is to grow 30 plants during the 6-week program. Aim for at least five plants a week to reveal delicious\, healthy recipes featuring the ingredients you have grown. \nTeams of up to five participants (yourself + four others) can be formed and may be the most fun part of this challenge. If you decide to join a team\, you will be able to earn additional points upon completion of challenges on Thrive Thursdays. Scores are based on the team’s average points\, including Thrive Thursday challenges. \n  \nNourish is open to all Federal agents and household family members (18 yrs. old and over). Register below: \nhttps://fedsgetfitmas.thenourishgarden.com \n*Kindly note\, only first place winners will receive a prize from Kaiser. \nNourish Important Dates: \n\n\n\nRegistration starts date/launch (First date participants can register)\nMonday\, March 18\n\n\nParticipants start date –  (First date participants record progress)\nMonday\, April 1\n\n\nRegistration end date\nMonday\, April 8\n\n\nLast day of the program\nSunday\, May 12\n\n\nLast day to log activity\nTuesday\, May 14
URL:https://archive.younggov.org/event/2024-wellness-challenge-nourish/
END:VEVENT
BEGIN:VEVENT
DTSTART;TZID=UTC:20240502T080000
DTEND;TZID=UTC:20240502T170000
DTSTAMP:20260423T233346
CREATED:20240408T031000Z
LAST-MODIFIED:20240408T031000Z
UID:1002-1714636800-1714669200@archive.younggov.org
SUMMARY:Annual Leadership Workshop
DESCRIPTION:The Asian American Government Executives Network (AAGEN) is holding their annual leadership workshop Thursday\, May 2nd at 600 14th Street NW\, Suite 600\, Washington\, DC 20005 (the Partnership for Public Service office). This one-day workshop\, themed “Integrity\, Identity\, and Influence – How to Lead in Uncertain Times\,” engages participants to become more effective and impactful leaders through developmental sessions and speed executive coaching. Don’t miss this opportunity to network and learn from professionals and senior executive leaders in government. Sign up today using the discount code “YGL24DISC”. Discounted tickets are limited and are offered on an FCFS basis. \nIf you have any questions\, please email programs@aagen.org.
URL:https://archive.younggov.org/event/annual-leadership-workshop/
END:VEVENT
BEGIN:VEVENT
DTSTART;TZID=UTC:20240508T080000
DTEND;TZID=UTC:20240509T170000
DTSTAMP:20260423T233346
CREATED:20240408T030535Z
LAST-MODIFIED:20240408T030535Z
UID:997-1715155200-1715274000@archive.younggov.org
SUMMARY:Spring 2024 Federal Government Education Summit
DESCRIPTION:The U.S. Office of Personnel Management Federal Academic Alliance Program https://www.opm.gov/policy-data-oversight/training-and-development/federal-academic-alliance/#url=Our-Academic-Partnersprogram is hosting the Spring 2024 Federal Government Education Summit in honor of Public Service Recognition Week beginning Wednesday\, May 8th\, from 9am-6pm (EST)\, and concludes with an in-person event May 9th.  Please click on this link to register for this free event: https://fedgovedfair.vfairs.com/ \n\n\n\nWednesday\, May 8\, 2024\, from 9am-6pm EST the event will be VIRTUAL and IN-PERSON\n\nAll VIRTUAL segments can be accessed via https://fedgovedfair.vfairs.com/\nAll IN-PERSON segments will be held at Graduate School USA\, 600 Maryland Avenue\, SW\, Washington\, DC\n\n\n\n\n\n  \n\n\n\nThursday\, May 9\, 2024\, from 9am-6pm EST the event will be VIRTUAL and IN-PERSON\n\nAll VIRTUAL segments can be accessed via https://fedgovedfair.vfairs.com/\nAll IN-PERSON segments will be held at Graduate School USA\, 600 Maryland Avenue\, SW\, Washington\, DC\n\n\n\n\n\n  \n\nAll presentations and panels will be streamed onsite and online for both virtual and in-person segments.\n\nWe look forward to seeing you at the event and hope that you will find time to attend the presentations and visit the exhibit hall. \n                                                                                           Exhibit Hall  & Networking  \n\n\n\nEST\nWEDNESDAY\, MAY 8\, & THURSDAY\, MAY 9\, 2024\n\n\n9:00am-6:00pm\nStop by the Exhibit Hall to get information on educational opportunities from your favorite school.\n\n\n MAY 8\n           VIRTUAL WEBINAR SESSIONS\n\n\n9:00am- \n2:00pm\n\n\nArtificial Intelligence/Data Science\nNational/International Security\nPersonal Development\n\n \n\n\n MAY 9\nLIVE PANEL SESSIONS (ON SITE)\n\n\n10:00 am – 4:00 pm\n\n\nArtificial Intelligence/Data Science\nNational/International Security\nPersonal Development\n\n \n\n\n \nNETWORKING OPPORTUNITIES\n\n\n1:00pm-4:00pm\nNetwork with Federal Affinity Groups: \n  \nBlacks in Government (BIG)\, Federally Employed Women (FEW)\, Society of American Indian Government Employees (SAIGE)\, Federal Asian Pacific American Council (FAPAC)\, the African American Federal Executive Association (AAFEA) \n \n\n\n \nTraining Officer’s Consortium (TOC) Representatives\n\n\n \nYoung Government Leaders (YGL)\n\n\n2:00pm-4:00pm\nVeterans & Spouses featured benefits information session (Visit the educational booths and discuss veterans’ benefits)\n\n\n6:00pm\nExhibit Hall Closes (Information will be available until June 9\, 2024)\n\n\n\n  \nTo enter the event\, visit https://fedgovedfair.vfairs.com/ and click on the “Click Here to Login” button. No password is required. On the main page there is also a walkthrough video to help you better navigate the event. \nWe look forward to seeing you tomorrow! \nThe Spring 2024 Federal Government Education Summit Team.
URL:https://archive.younggov.org/event/spring-2024-federal-government-education-summit/
END:VEVENT
BEGIN:VEVENT
DTSTART;TZID=UTC:20240508T180000
DTEND;TZID=UTC:20240508T200000
DTSTAMP:20260423T233346
CREATED:20240408T031205Z
LAST-MODIFIED:20240408T031205Z
UID:1006-1715191200-1715198400@archive.younggov.org
SUMMARY:Interviewing for Success
DESCRIPTION:Interviewing for Success \nAre you interested in improving your interviewing skills? Learn tips\, tricks and techniques to nail your next interview from the federal governments top senior leaders and hiring managers. \nCategories for Speed Interviewing: \n•New Hire to the Federal Government \n•Promotion or Career Advancement \n•Interviewing for a Supervisory Position \nAppetizers and Mocktails will be provided. \nSpacing is limited register below: \n 
URL:https://archive.younggov.org/event/interviewing-for-success/
END:VEVENT
BEGIN:VEVENT
DTSTART;TZID=UTC:20240612T080000
DTEND;TZID=UTC:20240612T170000
DTSTAMP:20260423T233346
CREATED:20240408T030728Z
LAST-MODIFIED:20240408T030728Z
UID:999-1718179200-1718211600@archive.younggov.org
SUMMARY:Volunteers needed
DESCRIPTION:The Federal Executive Institute Alumni Association will host their 2024 Executive Forum on June 12\, 2024\, at the Kaiser Center for Total Health in Washington\, DC. \nTo prepare for this significant gathering\, your involvement can play a pivotal role. This is a unique opportunity to contribute to the success of an event that brings together influential leaders and decision-makers from various government agencies. \nWhether you have experience in event planning\, marketing\, logistics\, or simply have a passion for public service\, we welcome your expertise and enthusiasm. Your insights and contributions will help create an engaging and impactful experience for our attendees. \n We are seeking volunteers in the following areas: \n·    Catering – coordinating food/beverage service for on-site participants \n·    Communications/Marketing – developing creative strategies to bolster attendance for the 2024 Executive Forum and future forums \n·    Exhibitors – recruit organizations to market and support FEIAA \n·    Fundraising- developing innovative sponsorship opportunities for FEIAA members\, FEI alumni\, and external partnering organizations. \n·    Onsite Volunteer – assist with Day of Event logistics (check-in\, set up\, technology\, exhibitor set up) \n·    Programming – developing quality panels and presentations to create a memorable\, interactive\, and immersive experience \n·    Registration – boost early bird registration \n·    Technology – research platforms to enable a hybrid experience \nWe are adding to the aforementioned list as tasks are delegated. So\, if you have a distinct interest\, we would love for you to add your expertise to the event. \nWe meet bi-weekly on the second and fourth Mondays at 7 pm ET for approximately one hour. \n If you are interested in volunteering for the Executive Forum\, please send an email to Steve Frid at sfrid11@gmail.com.
URL:https://archive.younggov.org/event/volunteers-needed/
END:VEVENT
END:VCALENDAR