BEGIN:VCALENDAR
VERSION:2.0
PRODID:-// - ECPv6.15.13.1//NONSGML v1.0//EN
CALSCALE:GREGORIAN
METHOD:PUBLISH
X-ORIGINAL-URL:https://archive.younggov.org
X-WR-CALDESC:Events for 
REFRESH-INTERVAL;VALUE=DURATION:PT1H
X-Robots-Tag:noindex
X-PUBLISHED-TTL:PT1H
BEGIN:VTIMEZONE
TZID:UTC
BEGIN:STANDARD
TZOFFSETFROM:+0000
TZOFFSETTO:+0000
TZNAME:UTC
DTSTART:20210101T000000
END:STANDARD
END:VTIMEZONE
BEGIN:VEVENT
DTSTART;TZID=UTC:20231118T070000
DTEND;TZID=UTC:20231118T120000
DTSTAMP:20260423T235945
CREATED:20231030T031029Z
LAST-MODIFIED:20231030T031049Z
UID:991-1700290800-1700308800@archive.younggov.org
SUMMARY:29th Annual Thanksgiving Food Distribution
DESCRIPTION:We invite our dedicated members to join us in giving back to the community. On November 18\, 2023\, we will come together to assemble Thanksgiving food baskets with Northern Virginia (NOVA) Project Giveback. Your participation will make a meaningful difference in the lives of families in need this holiday season. As a part of our commitment to service\, a portion of the proceeds from our 20-year celebration will directly support this initiative. Let’s work together to create a brighter Thanksgiving for those less fortunate. Your involvement can truly make an impact.\n\n\n\nTo volunteer please contact Twinder@younggov.org.
URL:https://archive.younggov.org/event/991/
LOCATION:Gum Springs Community Center\, 8100 Fordson Rd\,\, Alexandria\, VA\, 22306\, United States
END:VEVENT
BEGIN:VEVENT
DTSTART;TZID=UTC:20231030T080000
DTEND;TZID=UTC:20231030T170000
DTSTAMP:20260423T235945
CREATED:20231030T030333Z
LAST-MODIFIED:20231030T030333Z
UID:987-1698652800-1698685200@archive.younggov.org
SUMMARY:RETFED A Deeper Dive Into Federal Benefits Date & TimeNov 7\, 2023 01:00 PM in
DESCRIPTION:Date & Time Nov 7\, 2023 01:00 PM
URL:https://archive.younggov.org/event/retfed-a-deeper-dive-into-federal-benefits-date-timenov-7-2023-0100-pm-in/
END:VEVENT
BEGIN:VEVENT
DTSTART;TZID=UTC:20221003T190000
DTEND;TZID=UTC:20221003T200000
DTSTAMP:20260423T235945
CREATED:20220921T215901Z
LAST-MODIFIED:20220921T215901Z
UID:813-1664823600-1664827200@archive.younggov.org
SUMMARY:YGL Fiscal New Year Party FY23
DESCRIPTION:YGL’s Fiscal New Year Party \n\n\nAbout this event\n\n\n\nJoin YGL as we celebrate the end of another Fiscal Year! It is a YGL tradition to say goodbye to the old fiscal year and welcome the new one with a big hurrah. This year is no exception and we want to make sure you sign up early for this year’s celebration.\nWe will be unveiling a new initiative for next year\, new website design\, DEIA initiatives\, podcast\, raffles and much more. Join us for our biggest party of the year!\nBe sure to tell a friend and we can’t wait to see you there.\n  \nRegistration link here: https://www.eventbrite.com/e/ygl-fiscal-new-year-party-fy23-tickets-409044181157\n\n\n\n 
URL:https://archive.younggov.org/event/ygl-fiscal-new-year-party-fy23/
LOCATION:Virtual
END:VEVENT
END:VCALENDAR